BEGIN:VCALENDAR
VERSION:2.0
PRODID:icalendar-ruby
CALSCALE:GREGORIAN
METHOD:PUBLISH
BEGIN:VEVENT
DTSTAMP:20260423T013902Z
UID:57-1342735@sidewalkcentre.ca
DTSTART:20261021T150000Z
DTEND:20261021T160000Z
CLASS:PUBLIC
CREATED:20260422T193709
DESCRIPTION:For more information please see allsaintswaterloo.ca or call th
 e office at 519-884-6600
LAST-MODIFIED:20260422T193709
LOCATION:Board Room (room 122)
SUMMARY:All Saints'\, Bible Study with Pastor Marty
URL;VALUE=URI:https://sidewalkcentre.ca/events/all-saints-bible-study-with-
 pastor-marty/2026-10-21
END:VEVENT
END:VCALENDAR
