BEGIN:VCALENDAR
VERSION:2.0
PRODID:icalendar-ruby
CALSCALE:GREGORIAN
METHOD:PUBLISH
BEGIN:VEVENT
DTSTAMP:20260423T044840Z
UID:57-1343990@sidewalkcentre.ca
DTSTART:20261104T160000Z
DTEND:20261104T170000Z
CLASS:PUBLIC
CREATED:20260422T223037
DESCRIPTION:For more information please see allsaintswaterloo.ca or call th
 e office at 519-884-6600
LAST-MODIFIED:20260422T223037
LOCATION:Board Room (room 122)
SUMMARY:All Saints'\, Bible Study with Pastor Marty
URL;VALUE=URI:https://sidewalkcentre.ca/events/all-saints-bible-study-with-
 pastor-marty/2026-11-04
END:VEVENT
END:VCALENDAR
