BEGIN:VCALENDAR
VERSION:2.0
PRODID:icalendar-ruby
CALSCALE:GREGORIAN
METHOD:PUBLISH
BEGIN:VEVENT
DTSTAMP:20260422T180942Z
UID:56-1340115@sidewalkcentre.ca
DTSTART:20260901T143000Z
DTEND:20260901T163000Z
CLASS:PUBLIC
CREATED:20260422T134947
DESCRIPTION:For more information please call the church office at 519-884-6
 600
LAST-MODIFIED:20260422T134947
LOCATION:Room 203
SUMMARY:All Saints\, Women's Bible Study
URL;VALUE=URI:https://sidewalkcentre.ca/events/all-saints-womens-bible-stud
 y/2026-09-01
END:VEVENT
END:VCALENDAR
