BEGIN:VCALENDAR
VERSION:2.0
PRODID:icalendar-ruby
CALSCALE:GREGORIAN
METHOD:PUBLISH
BEGIN:VEVENT
DTSTAMP:20260423T084032Z
UID:56-1343881@sidewalkcentre.ca
DTSTART:20261103T153000Z
DTEND:20261103T173000Z
CLASS:PUBLIC
CREATED:20260422T223037
DESCRIPTION:For more information please call the church office at 519-884-6
 600
LAST-MODIFIED:20260422T223037
LOCATION:Room 203
SUMMARY:All Saints\, Women's Bible Study
URL;VALUE=URI:https://sidewalkcentre.ca/events/all-saints-womens-bible-stud
 y/2026-11-03
END:VEVENT
END:VCALENDAR
