BEGIN:VCALENDAR
VERSION:2.0
PRODID:icalendar-ruby
CALSCALE:GREGORIAN
METHOD:PUBLISH
BEGIN:VEVENT
DTSTAMP:20260424T160153Z
UID:17-1353195@sidewalkcentre.ca
DTSTART:20260831T130000Z
DTEND:20260831T220000Z
CLASS:PUBLIC
CREATED:20260424T105420
DESCRIPTION:Ann Dyduch is a registered phychotherapist. To make an appointm
 ent\, please call 226-455-5093 or email at ann@dyduchtherapy.com
LAST-MODIFIED:20260424T105420
LOCATION:Room 208
SUMMARY:Ann Dyduch Psychotherapy
URL;VALUE=URI:https://sidewalkcentre.ca/events/ann-dyduch-psychotherapy/202
 6-08-31
END:VEVENT
END:VCALENDAR
