BEGIN:VCALENDAR
VERSION:2.0
PRODID:icalendar-ruby
CALSCALE:GREGORIAN
METHOD:PUBLISH
BEGIN:VEVENT
DTSTAMP:20260422T221840Z
UID:6-1340387@sidewalkcentre.ca
DTSTART:20261007T183000Z
DTEND:20261007T193000Z
CLASS:PUBLIC
CREATED:20260422T164453
DESCRIPTION:As part of the Region of Waterloo Foodbanks Community Food Assi
 stance Network\, SideWalk is a distribution point for those in need of an 
 emergency food hamper. \nHampers are distributed by drop in.  
LAST-MODIFIED:20260422T164453
LOCATION:
SUMMARY:Food Distribution
URL;VALUE=URI:https://sidewalkcentre.ca/events/food-distribution/2026-10-07
END:VEVENT
END:VCALENDAR
