BEGIN:VCALENDAR
VERSION:2.0
PRODID:icalendar-ruby
CALSCALE:GREGORIAN
METHOD:PUBLISH
BEGIN:VEVENT
DTSTAMP:20260423T000742Z
UID:6-1341639@sidewalkcentre.ca
DTSTART:20261014T183000Z
DTEND:20261014T193000Z
CLASS:PUBLIC
CREATED:20260422T193707
DESCRIPTION:As part of the Region of Waterloo Foodbanks Community Food Assi
 stance Network\, SideWalk is a distribution point for those in need of an 
 emergency food hamper. \nHampers are distributed by drop in.  
LAST-MODIFIED:20260422T193707
LOCATION:
SUMMARY:Food Distribution
URL;VALUE=URI:https://sidewalkcentre.ca/events/food-distribution/2026-10-14
END:VEVENT
END:VCALENDAR
