BEGIN:VCALENDAR
VERSION:2.0
PRODID:icalendar-ruby
CALSCALE:GREGORIAN
METHOD:PUBLISH
BEGIN:VEVENT
DTSTAMP:20260421T235412Z
UID:41-1334772@sidewalkcentre.ca
DTSTART:20260617T223000Z
DTEND:20260617T233000Z
CLASS:PUBLIC
CREATED:20260421T181639
DESCRIPTION:Physical Fitness\, Concentration\, Self Control\, Self Defence\
 , Stress Reduction\, Builds Confidence. Just a few of the positive benefit
 s from Taekwondo. \n\nClasses: Monday and Wednesday 6:30- 7:30 pm\nFor mo
 re information or to register please contact masterjaywilliams@gmail.com o
 r 519-954-4867
LAST-MODIFIED:20260421T181639
LOCATION:Gym
SUMMARY:Jay William TaeKwonDo
URL;VALUE=URI:https://sidewalkcentre.ca/events/jay-william-taekwondo--41/20
 26-06-17
END:VEVENT
END:VCALENDAR
