BEGIN:VCALENDAR
VERSION:2.0
PRODID:icalendar-ruby
CALSCALE:GREGORIAN
METHOD:PUBLISH
BEGIN:VEVENT
DTSTAMP:20260422T222035Z
UID:41-1341034@sidewalkcentre.ca
DTSTART:20260916T223000Z
DTEND:20260916T233000Z
CLASS:PUBLIC
CREATED:20260422T164454
DESCRIPTION:Physical Fitness\, Concentration\, Self Control\, Self Defence\
 , Stress Reduction\, Builds Confidence. Just a few of the positive benefit
 s from Taekwondo. \n\nClasses: Monday and Wednesday 6:30- 7:30 pm\nFor mo
 re information or to register please contact masterjaywilliams@gmail.com o
 r 519-954-4867
LAST-MODIFIED:20260422T164454
LOCATION:Gym
SUMMARY:Jay William TaeKwonDo
URL;VALUE=URI:https://sidewalkcentre.ca/events/jay-william-taekwondo--41/20
 26-09-16
END:VEVENT
END:VCALENDAR
